BEGIN:VCALENDAR
VERSION:2.0
PRODID:-//wp-events-plugin.com//7.2.3.1//EN
TZID:America/New_York
X-WR-TIMEZONE:America/New_York
BEGIN:VEVENT
UID:2945@shearithisrael.org
DTSTART;TZID=America/New_York:20260425T113000
DTEND;TZID=America/New_York:20260425T140000
DTSTAMP:20260415T151722Z
URL:https://www.shearithisrael.org/events/siyyum-hatwain/
SUMMARY:Siyyum HaTwain: A Community Shabbat Luncheon
DESCRIPTION:Siyyum HaTwain: A Community Shabbat Luncheon\nwith Prof. Susan 
 K. Harris \nfor the Mark Twain Reader\, Admirer\, or Curious\nShabbat\, Ap
 ril 25 | Following Morning Services\n\nMany of our congregants have come t
 ogether this year to honor an iconic American writer\, Mark Twain\, by div
 vying up his oeuvre and reading it all. Come celebrate the culmination of 
 this project at a community luncheon with congregants and friends who join
 ed the Mark Twain Book Club\, as well as anyone who would like to learn (m
 ore) about Mark Twain from our special guest and Twain expert\, Dr. Susan 
 K. Harris.\n\nThe luncheon will be a relaxed buffet conducive to discussio
 n\, readings\, and interaction in the Elias Room. It's sure to be as full 
 of insightful and witty conversation as Twain himself.\nRegister here &gt\
 ;&gt\;\n\n\nPRICING\nEarly Bird Deadline: Sunday\, April 12\nRegistration 
 Deadline: Monday\, April 20\nMember adult: Early bird $48 | Regular $52\nN
 on-member adult: Early bird $49 | Regular $54\nYouth - $28\n&nbsp\;\nSpon
 sorships:\n$180 includes up to 2 meals\n$100  includes 1 meal\n
ATTACH;FMTTYPE=image/jpeg:https://www.shearithisrael.org/wp-content/upload
 s/2026/04/Susan-K-Harris-book-cover-headshot.jpg
CATEGORIES:*Highlighted Events,Featured Events
END:VEVENT
BEGIN:VTIMEZONE
TZID:America/New_York
X-LIC-LOCATION:America/New_York
BEGIN:DAYLIGHT
DTSTART:20260308T030000
TZOFFSETFROM:-0500
TZOFFSETTO:-0400
TZNAME:EDT
END:DAYLIGHT
END:VTIMEZONE
END:VCALENDAR