BEGIN:VCALENDAR
VERSION:2.0
PRODID:-//wp-events-plugin.com//7.2.3.1//EN
TZID:America/New_York
X-WR-TIMEZONE:America/New_York
BEGIN:VEVENT
UID:800@shearithisrael.org
DTSTART;TZID=America/New_York:20230409T120000
DTEND;TZID=America/New_York:20230409T130000
DTSTAMP:20230321T203640Z
URL:https://www.shearithisrael.org/events/shir-hashirim5783/
SUMMARY:Women's Virtual Shir HaShirim Reading
DESCRIPTION:In partnership with the women of Mikveh Israel\n\nSunday\, Hol 
 HaMoed Pesah\, April 9 | 12:00 noon | on Zoom\n\nWhether near or far\, the
  women of our congregation are invited to recite the Song of Songs on Pesa
 h. This year\, we will be partnering with our sister synagogue\, Mikveh Is
 rael of Philadelphia.\n\nFull preparation and training provided. Newcomers
  welcome! For more information and to participate\, please contact Mrs. L
 isa Rohde.\n\n
ATTACH;FMTTYPE=image/jpeg:https://www.shearithisrael.org/wp-content/upload
 s/2023/03/shir-hashirim-heart.jpeg
CATEGORIES:Featured Events
END:VEVENT
BEGIN:VTIMEZONE
TZID:America/New_York
X-LIC-LOCATION:America/New_York
BEGIN:DAYLIGHT
DTSTART:20230312T030000
TZOFFSETFROM:-0500
TZOFFSETTO:-0400
TZNAME:EDT
END:DAYLIGHT
END:VTIMEZONE
END:VCALENDAR