BEGIN:VCALENDAR
VERSION:2.0
PRODID:-//wp-events-plugin.com//7.2.3.1//EN
TZID:America/New_York
X-WR-TIMEZONE:America/New_York
BEGIN:VEVENT
UID:2723@shearithisrael.org
DTSTART;TZID=America/New_York:20250404T185400
DTEND;TZID=America/New_York:20250405T194800
DTSTAMP:20250316T161622Z
URL:https://www.shearithisrael.org/events/shabbat-vayikra-5785/
SUMMARY:Shabbat Vayikra 5785
DESCRIPTION:Rosh Hodesh Nisan (One-Day)\, Mar. 30\nRosh Hodesh Shahrit\, Su
 nday: 8:05 am\nConcluding Minhah/Arbit\, Sun. 6:30 pm\nWeekday Services\, 
 Mar. 31-April 4\nMonday-Friday Morns: 7:05 am\nMonday-Thursday Evenings: 6
 :30 pm\n\n\n\nShabbat Vayikra Apr. 4-5\nCandles (18 min. before sunset): 7
 :06 pm\nFriday Evening Services: 6:45 pm\nSat. Zemirot: 8:15 am | Shahrit:
  9:00 am\nParasha: Vayikra | Rabbi's Pre-Passover\nAddress Following Servi
 ces\nSaturday Minhah/Arbit: 7:00 pm\nHabdala: 8:02 pm
CATEGORIES:Services Schedules
END:VEVENT
BEGIN:VTIMEZONE
TZID:America/New_York
X-LIC-LOCATION:America/New_York
BEGIN:DAYLIGHT
DTSTART:20250309T030000
TZOFFSETFROM:-0500
TZOFFSETTO:-0400
TZNAME:EDT
END:DAYLIGHT
END:VTIMEZONE
END:VCALENDAR