BEGIN:VCALENDAR
VERSION:2.0
PRODID:-//wp-events-plugin.com//7.2.3.1//EN
TZID:America/New_York
X-WR-TIMEZONE:America/New_York
BEGIN:VEVENT
UID:2892@shearithisrael.org
DTSTART;TZID=America/New_York:20260130T183000
DTEND;TZID=America/New_York:20260130T213000
DTSTAMP:20260129T183704Z
URL:https://www.shearithisrael.org/events/magevet-dinner2026/
SUMMARY:Community Shabbat Shira Dinner with Magevet
DESCRIPTION:Friday Evening\, Shabbat Shira\, January 30\nFollowing Evening 
 Services &amp\; Friday Night Lights\nAll ages welcome!\nPreferred Pricing 
 for Young Professionals and Families\nFollowing our Friday evening service
 s – always musically exquisite – registered guests will enjoy a festiv
 e Shabbat dinner enhanced by a musical performance by Magevet\, Yale Unive
 rsity’s Jewish\, Hebrew\, and Israeli acapella group. A co-ed ensemble\,
  comprised of talented undergraduate students at Yale University\, Magevet
  is known for its sweet blend of voices\, unique arrangements\, and lighth
 earted sense of humor\, and is one of the nation’s premiere Jewish acape
 lla singing groups.\nRegister here &gt\;&gt\;\n\n\nPRICING\nRegistration D
 eadline: January 25\nMember adult: Early bird $58 | Regular $64\nNon-membe
 r adult: Early bird $64 | Regular $70\nYouth - $25\nFamily (up to 2 adul
 ts and 2 youth) - Early bird $150 | Regular $160\nYoung Professional (und
 er 36) - Early bird $54 | Regular $60
ATTACH;FMTTYPE=image/jpeg:https://www.shearithisrael.org/wp-content/upload
 s/2025/12/Magevet-2025.png
CATEGORIES:Featured Events
END:VEVENT
BEGIN:VTIMEZONE
TZID:America/New_York
X-LIC-LOCATION:America/New_York
BEGIN:STANDARD
DTSTART:20251102T010000
TZOFFSETFROM:-0400
TZOFFSETTO:-0500
TZNAME:EST
END:STANDARD
END:VTIMEZONE
END:VCALENDAR