BEGIN:VCALENDAR
VERSION:2.0
PRODID:-//wp-events-plugin.com//7.2.3.1//EN
TZID:America/New_York
X-WR-TIMEZONE:America/New_York
BEGIN:VEVENT
UID:2958@shearithisrael.org
DTSTART;TZID=America/New_York:20260502T160000
DTEND;TZID=America/New_York:20260502T170000
DTSTAMP:20260424T171648Z
URL:https://www.shearithisrael.org/events/lag-laomer5786/
SUMMARY:CSI YOUTH: Lag La'Omer Amazing Race
DESCRIPTION:Led by Dalya &amp\; Jake\n\nShabbat\, May 2 | 4:00 pm | Paved P
 aradise\nRegister here &gt\;&gt\;\n
ATTACH;FMTTYPE=image/jpeg:https://www.shearithisrael.org/wp-content/upload
 s/2026/04/Lag-LaOmer-Amazing-Race-thumbnail.png
CATEGORIES:CSI Youth,Featured Events
END:VEVENT
BEGIN:VTIMEZONE
TZID:America/New_York
X-LIC-LOCATION:America/New_York
BEGIN:DAYLIGHT
DTSTART:20260308T030000
TZOFFSETFROM:-0500
TZOFFSETTO:-0400
TZNAME:EDT
END:DAYLIGHT
END:VTIMEZONE
END:VCALENDAR