BEGIN:VCALENDAR
VERSION:2.0
PRODID:-//wp-events-plugin.com//7.2.3.1//EN
TZID:America/New_York
X-WR-TIMEZONE:America/New_York
BEGIN:VEVENT
UID:2869@shearithisrael.org
DTSTART;TZID=America/New_York:20251018T110000
DTEND;TZID=America/New_York:20251018T130000
DTSTAMP:20251117T181135Z
URL:https://www.shearithisrael.org/events/hatanim2025/
SUMMARY:Hatanim Celebration 5786
DESCRIPTION:Luncheon on Shabbat Bereshit\, October 18 | following Shabbat M
 orning Services\n\nThis annual Shearith Israel event brings our community 
 together in celebration of our devoted Congregants and serves as our Fall 
 Fundraiser.\n\nThis year we have the added goal of funding our new electri
 c chairlift. This device enables mobility-impaired congregants to access o
 ur sanctuary with dignity. Please show your support with a generous sponso
 rship and join us at this festive luncheon.\n\nRSVP DEADLINE: Sunday\, Oct
 ober 5*\n\n*The deadline has passed\, but you can still take part in this 
 meaningful fundraiser and join our growing list of sponsors (see below). W
 e will be accepting contributions through October 31.\nClick here &gt\;&gt
 \;\n\n\n\n\nThank you to our generous sponsors (as of 11/12):\nEllen &amp\
 ; Robert Kapito | Naomi &amp\; Peter Neustadter | Victor Owen | Solomon Fa
 mily | Stanton Family\n\nLewis Bateman | Beispel Family | Madelene &amp\; 
 Stan Towne\n\nAnonymous | Rachel Brody &amp\; Michael Lustig | Nathan Fami
 ly | Roberts Family | Gillian &amp\; Simon Salama-Caro\n\nKaren &amp\; Jac
 k Daar | Maimon Schwarzschild | Pam &amp\; Larry Tarica\n\nBengualid Golds
 tein Family | Rose &amp\; Henry Edinger | Naftali &amp\; Zoya Raynes Fried
 man | Jennifer Ash &amp\; Seth Haberman | Meryl Jaffe &amp\; Adam Hurwich 
 | Vicki &amp\; Sam Katz | Marcia &amp\; David Lavipour | Meredith Case &am
 p\; Aaron Nathan | Juan Mesa-Freydell | Meredith Berkman &amp\; Daniel Min
 tz | Esther &amp\; Bill Schulder | Muriel &amp\; Alexander Seligson | Sist
 erhood of the Spanish &amp\; Portuguese Synagogue | Charlotte Triefus &amp
 \; Lloyd Zuckerberg \n\nAnonymous | Maggie &amp\; Andre Guenoun | Karen &
 amp\; Elliot Lerner | Amanda Schachter &amp\; Alexander Levi | Carolyn &am
 p\; Steven Okin | Sondra &amp\; Arnold Rosen | Susan &amp\; Warren Stern |
  Yael Cycowicz &amp\; Matthew Kaplan | Morton Landowne | Donna Zilkha\n\n
  Vivette Ancona | Anonymous | Bonnie Barest | Joanne &amp\; Yaacov Ben-Av
 i | Esme &amp\; Roger Berg | Ceceil &amp\; Ariel Bengio | Betty Capelluto 
 Emden | Lucienne Carasso Bulow | Vivienne Roumani-Denn &amp\; Morton Denn 
 | Faith Fogelman | Stephanie &amp\; Jonathan Freilich | Laury Frieber | 
 Simon Gerson | J. Andrés Hernández | Lisa Turiel &amp\; Jon Israel | Not
 rica Family | Jonah Schein | Rachel &amp\; Melvin Twersky | Linda &amp\; B
 ernie Weiner | Daniela Weiss &amp\; Avi Yohananoff
ATTACH;FMTTYPE=image/jpeg:https://www.shearithisrael.org/wp-content/upload
 s/2025/09/Shabbat-Bereshit-postcard_1.png
CATEGORIES:*Highlighted Events,Featured Events
END:VEVENT
BEGIN:VTIMEZONE
TZID:America/New_York
X-LIC-LOCATION:America/New_York
BEGIN:DAYLIGHT
DTSTART:20250309T030000
TZOFFSETFROM:-0500
TZOFFSETTO:-0400
TZNAME:EDT
END:DAYLIGHT
END:VTIMEZONE
END:VCALENDAR