BEGIN:VCALENDAR
VERSION:2.0
PRODID:-//wp-events-plugin.com//7.2.3.1//EN
TZID:America/New_York
X-WR-TIMEZONE:America/New_York
BEGIN:VEVENT
UID:2875@shearithisrael.org
DTSTART;TZID=America/New_York:20251106T190000
DTEND;TZID=America/New_York:20251106T200000
DTSTAMP:20251031T172226Z
URL:https://www.shearithisrael.org/events/beyond-chatham/
SUMMARY:Veterans Day Program – “Beyond Chatham Square”
DESCRIPTION:Thursday\, November 6 | At Shearith Israel | Rev. Z. Edinger &a
 mp\;\nSpecial Guest Lt. Mikhael Smits\, 3rd U.S. Infantry Regiment (The Ol
 d Guard)\n7:00 pm (after 6:30 pm Evening Services)\n\nHear stories of Shea
 rith Israel congregants who have served in America’s armed forces—past
  and present\, including special guest speaker\, 1LT Mikhael Smits\, an of
 ficer in The Old Guard—the U.S. Army’s ceremonial unit—who has serve
 d as a paratrooper across the Middle East and Europe and is currently on l
 eave from Harvard Law School.\n\nIn connection with the upcoming 250th ann
 iversary of our nation’s founding\, this year’s presentation looks bey
 ond the patriots buried in Chatham Square—those we honor each year at ou
 r Memorial Day ceremony—to remember and recognize veterans interred thro
 ughout all of our congregational cemeteries. We will also pay tribute to c
 urrent members of our congregation who continue the proud legacy of servic
 e begun nearly two and a half centuries ago.
ATTACH;FMTTYPE=image/jpeg:https://www.shearithisrael.org/wp-content/upload
 s/2025/10/CSI_250_r2.jpg
CATEGORIES:*Highlighted Events,Featured Events
END:VEVENT
BEGIN:VTIMEZONE
TZID:America/New_York
X-LIC-LOCATION:America/New_York
BEGIN:STANDARD
DTSTART:20251102T010000
TZOFFSETFROM:-0400
TZOFFSETTO:-0500
TZNAME:EST
END:STANDARD
END:VTIMEZONE
END:VCALENDAR